BEGIN:VCALENDAR
VERSION:2.0
PRODID:-//wp-events-plugin.com//6.4.7.3//EN
BEGIN:VEVENT
UID:1@mchamber.org
DTSTART:20240113T160000Z
DTEND:20240113T180000Z
DTSTAMP:20240516T094024Z
URL:https://mchamber.org/event/ispc/
SUMMARY:ISPC
DESCRIPTION:  
ATTACH;FMTTYPE=image/jpeg:https://mchamber.org/wp-content/uploads/2024/04/
 WhatsApp-Image-2024-04-21-at-8.15.28-PM.jpeg
END:VEVENT
END:VCALENDAR