BEGIN:VCALENDAR
VERSION:2.0
PRODID:-//wp-events-plugin.com//6.4.7.3//EN
BEGIN:VEVENT
UID:7@mchamber.org
DTSTART:20191117T170000Z
DTEND:20191117T180000Z
DTSTAMP:20260305T222116Z
URL:https://mchamber.org/event/social-media-digital-marketing-2019/
SUMMARY:Social Media Digital Marketing 2019
DESCRIPTION:
ATTACH;FMTTYPE=image/jpeg:https://mchamber.org/wp-content/uploads/2024/09/
 Cover.jpeg
END:VEVENT
END:VCALENDAR